{"text_format":"1","workbook":"xlsx","n_sheets":2,"sheets":["Sheet1","Sheet2"],"not_rendered":{"charts":0,"images":1,"macros":1,"external_links":0,"defined_names":1,"comments":1,"pivot_tables":0},"unopened":[],"bounds":{"document_bytes":16777216,"sheet_cells":100000,"rows_first":2000,"rows_last":500,"rows_between":2000,"halvings":0,"cell_chars":16384,"cell_head_chars":4096},"cells_cut":0,"cells_raw":0,"read":"whole","date_system":"1900"}

{"sheet":"Sheet1","index":0,"n_rows":137,"n_cols":22,"rows_kept":137,"cut":false,"hidden":false,"merged":[[4,1,4,4],[6,1,6,4],[5,1,5,4],[4,0,6,0],[9,3,9,4],[13,3,13,4],[10,3,11,4],[25,14,25,18],[136,5,136,11],[133,5,133,11],[134,5,134,11],[135,5,135,11],[132,5,132,11],[25,10,25,13],[16,3,19,4],[25,6,25,8],[21,3,25,4],[12,3,12,4]]}
[null,null,null,null,null,"HIDE","HIDE","HIDE","HIDE","HIDE","HIDE","HIDE","HIDE","HIDE","HIDE","HIDE","HIDE","HIDE","HIDE","HIDE","HIDE","HIDE"]
[null,null,null,"2016 Sprints Class Calculator","V1.4"]
[]
[]
["Driver \nDetails","Full Name :"]
[null,"Vehicle Description :"]
[null,"Vehicle Colour :"]
[]
[null,"Please Select Your Vehicle",null,null,null,null,null,null,null,null,null,null,null,null,null,null,null,null,null,null,null,"Max Wheel Size"]
[null,null,"BRZ","YOUR CLASS",null,null,null,null,null,null,null,null,null,null,null,null,null,null,null,null,6,235]
[null,null,"Liberty Mk1 and Mk2",{"$f":"IF(U100 = 3,F137,IF(T129<=T133,IF(U100=2,F134,F133),IF(T129<=T134,F134,IF(T129<=T135,F135,IF(T129<=T136,F136,F137)))))","v":"Street"},null,null,null,null,null,null,null,null,null,null,null,null,null,null,null,null,null,225]
[null,null,"Liberty Mk3",null,null,null,null,null,null,null,null,null,null,null,null,null,null,null,null,null,null,235]
[null,null,"Liberty Mk4 +",{"$f":"IF(U100=3,\"OPEN CLASS DUE TO SLICK TYRES\",IF((AND(T129<T133,U100=2)),\"CLUBMAN CLASS DUE TO R SPEC TYRES\",\"\"))","v":""},null,null,null,null,null,null,null,null,null,null,null,null,null,null,null,null,null,245]
[null,null,"Forester",{"$f":" \"YOUR POINTS = \" &T129& \"       POINTS LEFT UNTIL NEXT CLASS = \" & IF(T129<T133,S134-T129,IF(T129<T134,S135-T129,IF(T129<T135,S136-T129,IF(T129<T136,S137-T129,0))))","v":"YOUR POINTS = 20       POINTS LEFT UNTIL NEXT CLASS = 110"},null,null,null,null,null,null,null,null,null,null,null,null,null,null,null,null,null,235]
[null,null,"Wrx 1993 - 2000",null,null,null,null,null,null,null,null,null,null,null,null,null,null,null,null,null,null,225]
[null,null,"Wrx 2001 - 2005","Important Notes",null,null,null,null,null,null,null,null,null,null,null,null,null,null,null,null,null,235]
[null,null,"Wrx 2006 - 2008","* Term \"OEM\" refers to AUDM delivered for your specific vehicle and year as per manufacturer's specification, This does not refer to Oem parts from other model vehicles.",null,null,null,null,null,null,null,null,null,null,null,null,null,null,null,null,null,245]
[null,null,"Wrx 2009 +",null,null,null,null,null,null,null,null,null,null,null,null,null,null,null,null,null,null,255]
[null,null,"STI 1996 - 2000",null,null,null,null,null,null,null,null,null,null,null,null,null,null,null,null,null,null,225]
[null,null,"STI 2001 - 2003",null,null,null,null,null,null,null,null,null,null,null,null,null,null,null,null,null,null,235]
[null,null,"STI 2004 - 2005",null,null,null,null,null,null,null,null,null,null,null,null,null,null,null,null,null,null,245]
[null,null,"STI 2006 - 2007","** Term \"Alternative Subaru\" refers to Subaru branded parts that were originally delivered on a Subaru vehicle (This includes JDM parts). This does not include similar parts that are produced by a different manufacturer. (E.g. Blouch TD05 is classed as aftermarket)",null,null,null,null,null,null,null,null,null,null,null,null,null,null,null,null,null,245]
[null,null,"STI 2008 +",null,null,null,null,null,null,null,null,null,null,null,null,null,null,null,null,null,null,255]
[null,null,null,null,null,null,null,null,null,null,null,null,null,null,null,null,null,null,null,null,null,{"$f":"IF(U10=1,V10,IF(U10=2,V11,IF(U10=3,V12,IF(U10=4,V13,IF(U10=5,V14,V15)))))","v":225}]
[null,null,null,null,null,null,null,null,null,null,null,null,null,null,null,null,null,null,null,null,null,{"$f":"IF(U10=7,V16,IF(U10=8,V17,IF(U10=9,V18,IF(U10=10,V19,IF(U10=11,V20,IF(U10=12,V21,IF(U10=13,V22,V23)))))))","v":255}]
[null,null,null,null,null,null,"Liberty",null,null,null,"Wrx",null,null,null,"STI"]
[null,null,null,null,"Points","BRZ","89-98","99-03","04+","Forester","93 - 00","01 - 05","06 - 08","09 +","96 - 00","01 - 03","04-05","06 - 07","08 +","Your Points"]
[null,"Engine"]
[null,null,"OEM*",null,{"$f":"IF($U$10=1,F29,IF($U$10=2,G29,IF($U$10=3,H29,IF($U$10=4,I29,IF($U$10=5,J29,IF($U$10=6,K29,IF($U$10=7,L29,IF($U$10=8,M29,IF($U$10=9,N29,IF($U$10=10,O29,IF($U$10=11,P29,IF($U$10=12,Q29,IF($U$10=13,R29,S29)))))))))))))","v":20},30,20,20,20,20,20,20,30,30,30,30,30,30,30,{"$f":"IF($U$29=V29,E29,0)","v":20},1,1]
[null,null,"Alternative Subaru Engine **",null,{"$f":"IF($U$10=1,F30,IF($U$10=2,G30,IF($U$10=3,H30,IF($U$10=4,I30,IF($U$10=5,J30,IF($U$10=6,K30,IF($U$10=7,L30,IF($U$10=8,M30,IF($U$10=9,N30,IF($U$10=10,O30,IF($U$10=11,P30,IF($U$10=12,Q30,IF($U$10=13,R30,S30)))))))))))))","v":50},50,50,50,50,50,50,50,50,50,50,50,50,50,50,{"$f":"IF($U$29=V30,E30,0)","v":0},null,2]
[null,null,"Subaru Modified / Built / Forged  (Non OEM*)",null,70,70,70,70,70,70,70,70,70,70,70,70,70,70,70,0,null,3]
[null,null,"6 cylinder",null,80,80,80,80,80,80,80,80,80,80,80,80,80,80,80,0,null,5]
[null,null,"Non Subaru Engine (Engine Swap)",null,250,250,250,250,250,250,250,250,250,250,250,250,250,250,250,0,null,6]
[]
[null,"Forced Induction"]
[null,null,"Naturally Aspirated",null,-20,-10,-20,-20,-20,-20,-20,-20,-20,-20,-20,-20,-20,-20,-20,{"$f":"IF($U$36=V36,E36,0)","v":0},2,1]
[null,null,"OEM* Turbo ",null,{"$f":"IF($U$10=1,F37,IF($U$10=2,G37,IF($U$10=3,H37,IF($U$10=4,I37,IF($U$10=5,J37,IF($U$10=6,K37,IF($U$10=7,L37,IF($U$10=8,M37,IF($U$10=9,N37,IF($U$10=10,O37,IF($U$10=11,P37,IF($U$10=12,Q37,IF($U$10=13,R37,S37)))))))))))))+ IF($U$29>=5,40,0)","v":0},0,0,0,0,0,0,0,0,30,30,30,30,30,30,{"$f":"IF($U$36=V37,E37,0)","v":0},null,2]
[null,null,"Alternative Subaru Turbo **",null,{"$f":"IF($U$10=1,F38,IF($U$10=2,G38,IF($U$10=3,H38,IF($U$10=4,I38,IF($U$10=5,J38,IF($U$10=6,K38,IF($U$10=7,L38,IF($U$10=8,M38,IF($U$10=9,N38,IF($U$10=10,O38,IF($U$10=11,P38,IF($U$10=12,Q38,IF($U$10=13,R38,S38)))))))))))))+ IF($U$29>=5,40,0)","v":30},90,30,30,30,30,30,30,30,30,30,30,30,30,30,0,null,3]
[null,null,"Aftermarket or Modifed Turbos\\Superchargers",null,{"$f":"IF($U$10=1,F39,IF($U$10=2,G39,IF($U$10=3,H39,IF($U$10=4,I39,IF($U$10=5,J39,IF($U$10=6,K39,IF($U$10=7,L39,IF($U$10=8,M39,IF($U$10=9,N39,IF($U$10=10,O39,IF($U$10=11,P39,IF($U$10=12,Q39,IF($U$10=13,R39,S39)))))))))))))+ IF($U$29>=5,40,0)","v":70},90,70,70,70,70,70,70,70,70,70,70,70,70,70,0,null,4]
[]
[null,"Intake"]
[null,null,"OEM* Intake",null,0,0,0,0,0,0,0,0,0,0,0,0,0,0,0,{"$f":"IF($U$42=V42,E42,0)","v":0},1,1]
[null,null,"Drop in Filter",null,10,10,10,10,10,10,10,10,10,10,10,10,10,10,10,{"$f":"IF($U$42=V43,E43,0)","v":0},null,2]
[null,null,"Cold Air Intake",null,20,20,20,20,20,20,20,20,20,20,20,20,20,20,20,0,null,3]
[]
[null,"ECU / Tuning"]
[null,null,"OEM* Ecu       (Not Remapped \\ Flashed)",null,0,0,0,0,0,0,0,0,0,10,10,10,10,10,20,{"$f":"IF($U$47=V47,E47,0)","v":0},1,1]
[null,null,"Alternative Subaru Ecu**           (Not Remapped \\ Flashed)",null,10,10,10,10,10,10,10,10,10,10,10,10,10,10,10,{"$f":"IF($U$47=V48,E48,0)","v":0},null,2]
[null,null,"Subaru Ecu Remaped \\ Reflash",null,40,40,40,40,40,40,40,40,40,40,40,40,40,40,40,0,null,3]
[null,null,"Non OEM Ecu (Replacement / Piggyback)",null,40,50,40,50,50,50,40,50,50,50,40,50,50,50,50,0,null,4]
[]
[null,"Exhaust"]
[null,null,"OEM* Exhaust",null,0,0,0,0,0,0,0,0,0,0,0,0,0,0,0,{"$f":"IF($U$53=V53,E53,0)","v":0},1,1]
[null,null,"Aftermarket Cat back exhaust",null,10,10,10,10,10,10,10,10,10,10,10,10,10,10,10,{"$f":"IF($U$53=V54,E54,0)","v":0},null,2]
[null,null,{"$f":"IF(U10=1,\"Aftermarket Headers\",\"Aftermarket Dump pipe\")","v":"Aftermarket Dump pipe"},null,30,30,30,30,30,30,30,30,30,30,30,30,30,30,30,0,null,3]
[null,null,"Full Aftermarket Exhaust (Turbo back or headers back)",null,40,40,40,40,40,40,40,40,40,40,40,40,40,40,40,0,null,4]
[]
[null,"Intercooler"]
[null,null,"No Intercooloer (Naturally Aspirated)",null,0,0,0,0,0,0,0,0,0,0,0,0,0,0,0,{"$f":"IF($U$59=V59,E59,0)","v":0},2,1]
[null,null,"OEM* Intercooler",null,0,0,0,0,0,0,0,0,0,0,20,20,20,20,20,{"$f":"IF($U$59=V60,E60,0)","v":0},null,2]
[null,null,"Alternative Subaru TMIC Intercooler **",null,20,20,20,20,20,20,20,20,20,20,20,20,20,20,20,0,null,3]
[null,null,"Aftermarket TMIC",null,30,30,30,30,30,30,30,30,30,30,30,30,30,30,30,0,null,4]
[null,null,"Aftermarket FMIC or WTA",null,40,40,40,40,40,40,40,40,40,40,40,40,40,40,40,0,null,5]
[]
[null,"Brakes - The WRX Club always encourages competitors upgrade their brake pads, disks and fluid to handle track duties"]
[null,null,"OEM* Brake calipers",null,0,0,0,0,0,0,0,0,0,0,0,40,40,40,40,{"$f":"IF($U$66=V66,E66,0)","v":0},1,1]
[null,null,"Brembo 4 piston calipers (as per ADM Sti)",null,40,40,40,40,40,40,40,40,40,40,40,40,40,40,40,{"$f":"IF($U$66=V67,E67,0)","v":0},null,2]
[null,null,"Aftermarket calipers",null,50,50,50,50,50,50,50,50,50,50,50,50,50,50,50,0,null,3]
[]
[null,"Suspension"]
[null,null,"OEM* Suspension",null,0,0,0,0,0,0,0,0,0,0,10,10,10,10,10,{"$f":"IF($U$71=V71,E71,0)","v":0},1,1]
[null,null,"Alternative Subaru Suspension **",null,10,10,10,10,10,10,10,10,10,10,10,10,10,10,10,{"$f":"IF($U$71=V72,E72,0)","v":0},null,2]
[null,null,"Aftermarket Springs only",null,20,20,20,20,20,20,20,20,20,20,20,20,20,20,20,0,null,3]
[null,null,"Aftermarket Struts only",null,20,20,20,20,20,20,20,20,20,20,20,20,20,20,20,0,null,4]
[null,null,"Aftermarket Struts and Springs",null,40,40,40,40,40,40,40,40,40,40,40,40,40,40,40,0,null,5]
[null,null,"Aftermarket Coil Overs",null,50,50,50,50,50,50,50,50,50,50,50,50,50,50,50,0,null,6]
[]
[null,"Sway Bars"]
[null,null,"OEM* Sway Bars",null,0,0,0,0,0,0,0,0,0,0,10,10,10,10,10,{"$f":"IF($U$79=V79,E79,0)","v":0},1,1]
[null,null,"Alternative Subaru Sway Bars **",null,10,10,10,10,10,10,10,10,10,10,10,10,10,10,10,{"$f":"IF($U$79=V80,E80,0)","v":0},null,2]
[null,null,"Aftermarket Sway Bars",null,20,20,20,20,20,20,20,20,20,20,20,20,20,20,20,0,null,3]
[]
[null,"Driveline"]
[null,null,"OEM* Gearbox",null,0,0,0,0,0,0,0,0,0,0,30,30,30,30,30,{"$f":"IF($U$84=V84,E84,0)","v":0},1,1]
[null,null,"JDM 5 Speed Gearbox",null,20,20,20,20,20,20,20,20,20,20,20,20,20,20,20,{"$f":"IF($U$84=V85,E85,0)","v":0},null,2]
[null,null,"Subaru 6 Speed Gearbox",null,30,30,30,30,30,30,30,30,30,30,30,30,30,30,30,0,null,3]
[null,null,"Subaru Gearbox with PPG gears",null,30,30,30,30,30,30,30,30,30,30,30,30,30,30,30,0,null,4]
[null,null,"Non Subaru Gearbox",null,80,80,80,80,80,80,80,80,80,80,80,80,80,80,80,0,null,5]
[]
[null,"DCCD"]
[null,null,"None",null,0,0,0,0,0,0,0,0,0,0,0,0,0,20,20,{"$f":"IF($U$91=V91,E91,0)","v":0},1,1]
[null,null,"05+ STI or aftermarket DCCD",null,20,20,20,20,20,20,20,20,20,20,20,20,20,20,20,{"$f":"IF($U$91=V92,E92,0)","v":0},null,2]
[]
[null,"Fuel"]
[null,null,"Unleaded Pump Fuel",null,{"$f":"IF($U$10=1,F95,IF($U$10=2,G95,IF($U$10=3,H95,IF($U$10=4,I95,IF($U$10=5,J95,IF($U$10=6,K95,IF($U$10=7,L95,IF($U$10=8,M95,IF($U$10=9,N95,IF($U$10=10,O95,IF($U$10=11,P95,IF($U$10=12,Q95,IF($U$10=13,R95,S95)))))))))))))","v":0},0,0,0,0,0,0,0,0,0,0,0,0,0,0,{"$f":"IF($U$95=V95,E95,0)","v":0},1,1]
[null,null,"E85 Fuel (incl. flex fuel)",null,30,30,30,30,30,30,30,30,30,30,30,30,30,30,30,{"$f":"IF($U$95=V96,E96,0)","v":0},null,2]
[null,null,"Any Racing Fuel",null,40,40,40,40,40,40,40,40,40,40,40,40,40,40,40,0,null,3]
[]
[null,"Tyres"]
[null,null,"Street Tyres ",null,0,0,0,0,0,0,0,0,0,0,0,0,0,0,0,{"$f":"IF($U$100=V100,E100,0)","v":0},1,1]
[null,null,"R Spec Tyres (Not valid for Street class)",null,40,40,40,40,40,40,40,40,40,40,40,40,40,40,40,{"$f":"IF($U$100=V101,E101,0)","v":0},null,2]
[null,null,"Slicks (Open class only)",null,80,80,80,80,80,80,80,80,80,80,80,80,80,80,80,0,null,3]
[]
[null,"Weight Saving"]
[null,null,"Removed Front Passenger Seat",null,20,20,20,20,20,20,20,20,20,20,20,20,20,20,20,{"$f":"IF(U105=TRUE,E105,0)","v":0},false]
[null,null,"Removed Carpet",null,10,10,10,10,10,10,10,10,10,10,10,10,10,10,10,{"$f":"IF(U106=TRUE,E106,0)","v":0},false]
[null,null,"Removed Sound Deadening",null,5,5,5,5,5,5,5,5,5,5,5,5,5,5,5,{"$f":"IF(U107=TRUE,E107,0)","v":0},false]
[null,null,"Removed Air Conditioning",null,5,5,5,5,5,5,5,5,5,5,5,5,5,5,5,0,false]
[null,null,"Replaced windows",null,20,20,20,20,20,20,20,20,20,20,20,20,20,20,20,0,false]
[]
[null,"Aero"]
[null,null,"Rear Spoiler (non subaru/ replica subaru)",null,20,20,20,20,20,20,20,20,20,20,20,20,20,20,20,{"$f":"IF(U112=TRUE,E112,0)","v":0},false]
[null,null,"Canards or additional aero on bumper over OEM* (non cosmetic)",null,10,10,10,10,10,10,10,10,10,10,10,10,10,10,10,0,false]
[null,null,"Front Splitter/Diffuser",null,25,25,25,25,25,25,25,25,25,25,25,25,25,25,25,0,false]
[null,null,"Rear Diffuser",null,15,25,25,25,25,25,25,25,25,25,25,25,25,25,25,{"$f":"IF(U115=TRUE,E115,0)","v":0},false]
[null,null,"Under Body Diffuser",null,10,10,10,10,10,10,10,10,10,10,10,10,10,10,10,0,false]
[]
[null,"Other"]
[null,null,{"$f":" \"Tyre width greater than : \" & IF(U10<7,V24,V25)","v":"Tyre width greater than : 225"},null,40,40,40,40,40,40,40,40,40,40,40,40,40,40,40,0,false]
[null,null,"Strut Tower Bar ",null,5,5,5,5,5,5,5,5,5,5,5,5,5,5,5,0,false]
[null,null,"H or K Brace",null,5,5,5,5,5,5,5,5,5,5,5,5,5,5,5,0,false]
[null,null,"Anti Lift Kit",null,5,5,5,5,5,5,5,5,5,5,5,5,5,5,5,0,false]
[null,null,"Roll Cage                                                                                      (-10 Points as Safety Device)",null,-10,-10,-10,-10,-10,-10,-10,-10,-10,-10,-10,-10,-10,-10,-10,0,false]
[null,null,"Racing Harness and Hans Device (must have both)             (-10 Points as Safety Device)",null,-10,-10,-10,-10,-10,-10,-10,-10,-10,-10,-10,-10,-10,-10,-10,0,false]
[]
[null,"Model Dispensation",null,null,{"$f":"IF($U$10=1,F126,IF($U$10=2,G126,IF($U$10=3,H126,IF($U$10=4,I126,IF($U$10=5,J126,IF($U$10=6,K126,IF($U$10=7,L126,IF($U$10=8,M126,IF($U$10=9,N126,IF($U$10=10,O126,IF($U$10=11,P126,IF($U$10=12,Q126,IF($U$10=13,R126,S126)))))))))))))","v":0},0,0,-5,-10,-10,0,0,0,0,0,0,0,0,0,{"$f":"E126","v":0},"Model Dispensation"]
[]
[]
[null,null,null,null,null,null,null,null,null,null,null,null,null,null,null,null,null,null,"Total Points",{"$f":"SUM(T28:T127)","v":20}]
[]
[]
[null,null,null,null,null,"Class",null,null,null,null,null,null,null,null,null,null,null,null,"From","To"]
[null,null,null,null,null,"Street",null,null,null,null,null,null,null,null,null,null,null,null,0,{"$f":"S134-1","v":129}]
[null,null,null,null,null,"Clubman",null,null,null,null,null,null,null,null,null,null,null,null,{"$f":"Sheet2!L5","v":130},{"$f":"S135-1","v":329}]
[null,null,null,null,null,"Sprint",null,null,null,null,null,null,null,null,null,null,null,null,{"$f":"Sheet2!L6","v":330},419]
[null,null,null,null,null,"AVO Turboworld Super Sprint",null,null,null,null,null,null,null,null,null,null,null,null,{"$f":"Sheet2!L7","v":420},549]
[null,null,null,null,null,"Open",null,null,null,null,null,null,null,null,null,null,null,null,{"$f":"Sheet2!L8","v":550},9999]

{"sheet":"Sheet2","index":1,"n_rows":44,"n_cols":12,"rows_kept":44,"cut":false,"hidden":false,"merged":[]}
[]
[]
[null,"Base spec","CAI and exhaust","Tune","Coilover and sways","Turbo and intercooler","Brembos","R-Specs","Built engine",null,"Class","From"]
["BRZ",{"$f":"Sheet1!F29+Sheet1!F36+Sheet1!F42+Sheet1!F47+Sheet1!F53+Sheet1!F59+Sheet1!F66+Sheet1!F71+Sheet1!F79+Sheet1!F84+Sheet1!F91+Sheet1!F95+Sheet1!F100+Sheet1!F126","v":20},{"$f":"B4+Sheet1!F44+Sheet1!F56-Sheet1!F42-Sheet1!F53","v":80},{"$f":"C4+Sheet1!F49","v":120},{"$f":"$D4+Sheet1!F$76+Sheet1!F$81","v":190},{"$f":"E4+Sheet1!F39+Sheet1!F56+Sheet1!F63-Sheet1!F36-Sheet1!F59","v":370},{"$f":"F4+Sheet1!F67","v":410},{"$f":"G4+Sheet1!F$101","v":450},{"$f":"H4+Sheet1!F31-Sheet1!F29","v":490},null,"Street",0]
[null,{"$f":"IF(B4<$L$5,$K$4,IF(B4<$L$6,$K$5,IF(B4<$L$7,$K$6,IF(B4<$L$8,$K$7,$K$8))))","v":"Street"},{"$f":"IF(C4<$L$5,$K$4,IF(C4<$L$6,$K$5,IF(C4<$L$7,$K$6,IF(C4<$L$8,$K$7,$K$8))))","v":"Street"},"Street","Clubman","Sprint","Sprint","SS","SS",null,"Clubman",130]
[null,null,null,null,null,null,null,null,null,null,"Sprint",330]
["Liberty Mk1 and Mk2",{"$f":"Sheet1!G29+Sheet1!G37+Sheet1!G42+Sheet1!G47+Sheet1!G53+Sheet1!G60+Sheet1!G66+Sheet1!G71+Sheet1!G79+Sheet1!G84+Sheet1!G91+Sheet1!G95+Sheet1!G100+Sheet1!G126","v":20},{"$f":"B7+Sheet1!G44+Sheet1!G56-Sheet1!G42-Sheet1!G53","v":80},{"$f":"C7+Sheet1!G49","v":120},{"$f":"$D7+Sheet1!$G$76+Sheet1!$G$81","v":190},{"$f":"$E7+Sheet1!G$39+Sheet1!G$63-Sheet1!G37-Sheet1!G60","v":300},{"$f":"F7+Sheet1!$G$67","v":340},{"$f":"G7+Sheet1!$G$101","v":380},{"$f":"H7+Sheet1!$G31-Sheet1!$G29","v":430},null,"SS",420]
[null,{"$f":"IF(B7<$L$5,$K$4,IF(B7<$L$6,$K$5,IF(B7<$L$7,$K$6,IF(B7<$L$8,$K$7,$K$8))))","v":"Street"},{"$f":"IF(C7<$L$5,$K$4,IF(C7<$L$6,$K$5,IF(C7<$L$7,$K$6,IF(C7<$L$8,$K$7,$K$8))))","v":"Street"},"Street","Clubman","Clubman","Sprint","Sprint","SS",null,"Open",550]
[]
["Liberty Mk3",{"$f":"Sheet1!H29+Sheet1!H37+Sheet1!H42+Sheet1!H47+Sheet1!H53+Sheet1!H60+Sheet1!H66+Sheet1!H71+Sheet1!H79+Sheet1!H84+Sheet1!H91+Sheet1!H95+Sheet1!H100+Sheet1!H126","v":15},{"$f":"B10+Sheet1!H44+Sheet1!H56-Sheet1!H42-Sheet1!H53","v":75},{"$f":"C10+Sheet1!F49","v":115},{"$f":"$D10+Sheet1!$H$76+Sheet1!$H$81","v":185},{"$f":"$E10+Sheet1!$H$39+Sheet1!$H$63-Sheet1!H37-Sheet1!H60","v":295},{"$f":"F10+Sheet1!$H$67","v":335},{"$f":"G10+Sheet1!$H$101","v":375},{"$f":"H10+Sheet1!$H31-Sheet1!$H29","v":425}]
[null,{"$f":"IF(B10<$L$5,$K$4,IF(B10<$L$6,$K$5,IF(B10<$L$7,$K$6,IF(B10<$L$8,$K$7,$K$8))))","v":"Street"},{"$f":"IF(C10<$L$5,$K$4,IF(C10<$L$6,$K$5,IF(C10<$L$7,$K$6,IF(C10<$L$8,$K$7,$K$8))))","v":"Street"},"Street","Clubman","Clubman","Sprint","Sprint","SS"]
[]
["Liberty Mk4",{"$f":"Sheet1!I29+Sheet1!I37+Sheet1!I42+Sheet1!I47+Sheet1!I53+Sheet1!I60+Sheet1!I66+Sheet1!I71+Sheet1!I79+Sheet1!I84+Sheet1!I91+Sheet1!I95+Sheet1!I100+Sheet1!I126","v":10},{"$f":"B13+Sheet1!I44+Sheet1!I56-Sheet1!I42-Sheet1!I53","v":70},{"$f":"C13+Sheet1!I49","v":110},{"$f":"$D13+Sheet1!$I$76+Sheet1!$I$81","v":180},{"$f":"$E13+Sheet1!$I$39+Sheet1!$I$63-Sheet1!I37-Sheet1!I60","v":290},{"$f":"F13+Sheet1!$I$67","v":330},{"$f":"G13+Sheet1!$I$101","v":370},{"$f":"H13+Sheet1!$I31-Sheet1!$I29","v":420}]
[null,{"$f":"IF(B13<$L$5,$K$4,IF(B13<$L$6,$K$5,IF(B13<$L$7,$K$6,IF(B13<$L$8,$K$7,$K$8))))","v":"Street"},{"$f":"IF(C13<$L$5,$K$4,IF(C13<$L$6,$K$5,IF(C13<$L$7,$K$6,IF(C13<$L$8,$K$7,$K$8))))","v":"Street"},"Street","Clubman","Clubman","Sprint","Sprint","SS"]
[]
["Forester",{"$f":"Sheet1!J29+Sheet1!J37+Sheet1!J42+Sheet1!J47+Sheet1!J53+Sheet1!J60+Sheet1!J66+Sheet1!J71+Sheet1!J79+Sheet1!J84+Sheet1!J91+Sheet1!J95+Sheet1!J100+Sheet1!J126","v":10},{"$f":"B16+Sheet1!J44+Sheet1!J56-Sheet1!J42-Sheet1!J53","v":70},{"$f":"C16+Sheet1!J49","v":110},{"$f":"$D16+Sheet1!$J$76+Sheet1!$J$81","v":180},{"$f":"$E16+Sheet1!$J$39+Sheet1!$J$63-Sheet1!J37-Sheet1!J60","v":290},{"$f":"F16+Sheet1!$J$67","v":330},{"$f":"G16+Sheet1!$J$101","v":370},{"$f":"H16+Sheet1!$J31-Sheet1!$J29","v":420}]
[null,{"$f":"IF(B16<$L$5,$K$4,IF(B16<$L$6,$K$5,IF(B16<$L$7,$K$6,IF(B16<$L$8,$K$7,$K$8))))","v":"Street"},{"$f":"IF(C16<$L$5,$K$4,IF(C16<$L$6,$K$5,IF(C16<$L$7,$K$6,IF(C16<$L$8,$K$7,$K$8))))","v":"Street"},"Street","Clubman","Clubman","Sprint","Sprint","SS"]
[]
["Wrx 1993 - 2000",{"$f":"Sheet1!K29+Sheet1!K37+Sheet1!K42+Sheet1!K47+Sheet1!K53+Sheet1!K60+Sheet1!K66+Sheet1!K71+Sheet1!K79+Sheet1!K84+Sheet1!K91+Sheet1!K95+Sheet1!K100+Sheet1!K126","v":20},{"$f":"B19+Sheet1!K44+Sheet1!K56-Sheet1!K42-Sheet1!K53","v":80},{"$f":"$C19+Sheet1!K49","v":120},{"$f":"$D19+Sheet1!$K$76+Sheet1!$K$81","v":190},{"$f":"$E19+Sheet1!$K$39+Sheet1!$K$63-Sheet1!K37-Sheet1!K60","v":300},{"$f":"F19+Sheet1!$K$67","v":340},{"$f":"G19+Sheet1!$K$101","v":380},{"$f":"H19+Sheet1!$K31-Sheet1!$K29","v":430}]
[null,{"$f":"IF(B19<$L$5,$K$4,IF(B19<$L$6,$K$5,IF(B19<$L$7,$K$6,IF(B19<$L$8,$K$7,$K$8))))","v":"Street"},{"$f":"IF(C19<$L$5,$K$4,IF(C19<$L$6,$K$5,IF(C19<$L$7,$K$6,IF(C19<$L$8,$K$7,$K$8))))","v":"Street"},"Street","Clubman","Clubman","Sprint","Sprint","SS"]
[]
["Wrx 2001 - 2005",{"$f":"Sheet1!L29+Sheet1!L37+Sheet1!L42+Sheet1!L47+Sheet1!L53+Sheet1!L60+Sheet1!L66+Sheet1!L71+Sheet1!L79+Sheet1!L84+Sheet1!L91+Sheet1!L95+Sheet1!L100+Sheet1!L126","v":20},{"$f":"B22+Sheet1!L44+Sheet1!L56-Sheet1!L42-Sheet1!L53","v":80},{"$f":"$C22+Sheet1!L49","v":120},{"$f":"$D22+Sheet1!$L$76+Sheet1!$L$81","v":190},{"$f":"$E22+Sheet1!$L$39+Sheet1!$L$63-Sheet1!L37-Sheet1!L60","v":300},{"$f":"F22+Sheet1!$L$67","v":340},{"$f":"G22+Sheet1!$L$101","v":380},{"$f":"H22+Sheet1!$L31-Sheet1!$L29","v":430}]
[null,{"$f":"IF(B22<$L$5,$K$4,IF(B22<$L$6,$K$5,IF(B22<$L$7,$K$6,IF(B22<$L$8,$K$7,$K$8))))","v":"Street"},{"$f":"IF(C22<$L$5,$K$4,IF(C22<$L$6,$K$5,IF(C22<$L$7,$K$6,IF(C22<$L$8,$K$7,$K$8))))","v":"Street"},"Street",{"$f":"IF(E22<$L$5,$K$4,IF(E22<$L$6,$K$5,IF(E22<$L$7,$K$6,IF(E22<$L$8,$K$7,$K$8))))","v":"Clubman"},"Clubman","Sprint","Sprint","SS"]
[]
["Wrx 2006 - 2008",{"$f":"Sheet1!M29+Sheet1!M37+Sheet1!M42+Sheet1!M47+Sheet1!M53+Sheet1!M60+Sheet1!M66+Sheet1!M71+Sheet1!M79+Sheet1!M84+Sheet1!M91+Sheet1!M95+Sheet1!M100+Sheet1!M126","v":30},{"$f":"B25+Sheet1!M44+Sheet1!M56-Sheet1!M42-Sheet1!M53","v":90},{"$f":"$C25+Sheet1!M49","v":130},{"$f":"$D25+Sheet1!$M$76+Sheet1!$M$81","v":200},{"$f":"$E25+Sheet1!$M$39+Sheet1!$M$63-Sheet1!M37-Sheet1!M60","v":310},{"$f":"F25+Sheet1!$M$67","v":350},{"$f":"G25+Sheet1!$M$101","v":390},{"$f":"H25+Sheet1!$M31-Sheet1!$M29","v":430}]
[null,{"$f":"IF(B25<$L$5,$K$4,IF(B25<$L$6,$K$5,IF(B25<$L$7,$K$6,IF(B25<$L$8,$K$7,$K$8))))","v":"Street"},{"$f":"IF(C25<$L$5,$K$4,IF(C25<$L$6,$K$5,IF(C25<$L$7,$K$6,IF(C25<$L$8,$K$7,$K$8))))","v":"Street"},"Clubman","Clubman","Clubman","Sprint","Sprint","SS"]
[]
["Wrx 2009 +",{"$f":"Sheet1!N29+Sheet1!N37+Sheet1!N42+Sheet1!N47+Sheet1!N53+Sheet1!N60+Sheet1!N66+Sheet1!N71+Sheet1!N79+Sheet1!N84+Sheet1!N91+Sheet1!N95+Sheet1!N100+Sheet1!N126","v":70},{"$f":"B28+Sheet1!N44+Sheet1!N56-Sheet1!N42-Sheet1!N53","v":130},{"$f":"$C28+Sheet1!N49-Sheet1!N47","v":160},{"$f":"$D28+Sheet1!$N$76+Sheet1!$N$81","v":230},{"$f":"$E28+Sheet1!$N$39+Sheet1!$N$63-Sheet1!$N$37-Sheet1!N60","v":310},{"$f":"F28+Sheet1!$N$67","v":350},{"$f":"G28+Sheet1!$N$101","v":390},{"$f":"H28+Sheet1!$N31-Sheet1!$N29","v":430}]
[null,{"$f":"IF(B28<$L$5,$K$4,IF(B28<$L$6,$K$5,IF(B28<$L$7,$K$6,IF(B28<$L$8,$K$7,$K$8))))","v":"Street"},{"$f":"IF(C28<$L$5,$K$4,IF(C28<$L$6,$K$5,IF(C28<$L$7,$K$6,IF(C28<$L$8,$K$7,$K$8))))","v":"Clubman"},"Clubman","Clubman","Clubman","Sprint","Sprint","SS"]
[]
["STI 1996 - 2000",{"$f":"Sheet1!O29+Sheet1!O37+Sheet1!O42+Sheet1!O47+Sheet1!O53+Sheet1!O60+Sheet1!O66+Sheet1!O71+Sheet1!O79+Sheet1!O84+Sheet1!O91+Sheet1!O95+Sheet1!O100+Sheet1!O126","v":140},{"$f":"B31+Sheet1!O44+Sheet1!O56-Sheet1!O42-Sheet1!O53","v":200},{"$f":"$C31+Sheet1!O49-Sheet1!O47","v":230},{"$f":"$D31+Sheet1!$O$76+Sheet1!$O$81-Sheet1!$O$79-Sheet1!$O$71","v":280},{"$f":"$E31+Sheet1!$O$39+Sheet1!$O$63-Sheet1!O37-Sheet1!O60","v":340},{"$f":"F31+Sheet1!$O$67-Sheet1!$O$66","v":380},{"$f":"G31+Sheet1!$O$101","v":420},{"$f":"H31+Sheet1!$O31-Sheet1!$O29","v":460}]
[null,{"$f":"IF(B31<$L$5,$K$4,IF(B31<$L$6,$K$5,IF(B31<$L$7,$K$6,IF(B31<$L$8,$K$7,$K$8))))","v":"Clubman"},{"$f":"IF(C31<$L$5,$K$4,IF(C31<$L$6,$K$5,IF(C31<$L$7,$K$6,IF(C31<$L$8,$K$7,$K$8))))","v":"Clubman"},"Clubman","Clubman","Sprint","Sprint","SS","SS"]
[]
["STI 2001 - 2003",{"$f":"Sheet1!P29+Sheet1!P37+Sheet1!P42+Sheet1!P47+Sheet1!P53+Sheet1!P60+Sheet1!P66+Sheet1!P71+Sheet1!P79+Sheet1!P84+Sheet1!P91+Sheet1!P95+Sheet1!P100+Sheet1!P126","v":180},{"$f":"B34+Sheet1!P44+Sheet1!P56-Sheet1!P42-Sheet1!P53","v":240},{"$f":"$C34+Sheet1!P49-Sheet1!P47","v":270},{"$f":"$D34+Sheet1!$P$76+Sheet1!$P$81-Sheet1!$P$79-Sheet1!$P$71","v":320},{"$f":"$E34+Sheet1!$P$39+Sheet1!$P$63-Sheet1!P37-Sheet1!P60","v":380},{"$f":"F34+Sheet1!$P$67-Sheet1!$P$66","v":380},{"$f":"G34+Sheet1!$P$101","v":420},{"$f":"H34+Sheet1!$P31-Sheet1!$P29","v":460}]
[null,{"$f":"IF(B34<$L$5,$K$4,IF(B34<$L$6,$K$5,IF(B34<$L$7,$K$6,IF(B34<$L$8,$K$7,$K$8))))","v":"Clubman"},{"$f":"IF(C34<$L$5,$K$4,IF(C34<$L$6,$K$5,IF(C34<$L$7,$K$6,IF(C34<$L$8,$K$7,$K$8))))","v":"Clubman"},"Clubman","Clubman","Sprint","Sprint","SS","SS"]
[]
["STI 2004 - 2005",{"$f":"Sheet1!Q29+Sheet1!Q37+Sheet1!Q42+Sheet1!Q47+Sheet1!Q53+Sheet1!Q60+Sheet1!Q66+Sheet1!Q71+Sheet1!Q79+Sheet1!Q84+Sheet1!Q91+Sheet1!Q95+Sheet1!Q100+Sheet1!Q126","v":180},{"$f":"B37+Sheet1!Q44+Sheet1!Q56-Sheet1!Q42-Sheet1!Q53","v":240},{"$f":"$C37+Sheet1!Q49-Sheet1!Q47","v":270},{"$f":"$D37+Sheet1!$Q$76+Sheet1!$Q$81-Sheet1!$Q$79-Sheet1!$Q$71","v":320},{"$f":"$E37+Sheet1!$Q$39+Sheet1!$Q$63-Sheet1!Q37-Sheet1!Q60","v":380},{"$f":"F37+Sheet1!$Q$67-Sheet1!$Q$66","v":380},{"$f":"G37+Sheet1!$Q$101","v":420},{"$f":"H37+Sheet1!$Q31-Sheet1!$Q29","v":460}]
[null,{"$f":"IF(B37<$L$5,$K$4,IF(B37<$L$6,$K$5,IF(B37<$L$7,$K$6,IF(B37<$L$8,$K$7,$K$8))))","v":"Clubman"},{"$f":"IF(C37<$L$5,$K$4,IF(C37<$L$6,$K$5,IF(C37<$L$7,$K$6,IF(C37<$L$8,$K$7,$K$8))))","v":"Clubman"},"Clubman","Clubman","Sprint","Sprint","SS","SS"]
[]
["STI 2006 - 2007",{"$f":"Sheet1!R29+Sheet1!R37+Sheet1!R42+Sheet1!R47+Sheet1!R53+Sheet1!R60+Sheet1!R66+Sheet1!R71+Sheet1!R79+Sheet1!R84+Sheet1!R91+Sheet1!R95+Sheet1!R100+Sheet1!R126","v":200},{"$f":"B40+Sheet1!R44+Sheet1!R56-Sheet1!R42-Sheet1!R53","v":260},{"$f":"$C40+Sheet1!R49-Sheet1!R47","v":290},{"$f":"$D40+Sheet1!$R$76+Sheet1!$R$81-Sheet1!$R$79-Sheet1!$R$71","v":340},{"$f":"$E40+Sheet1!$R$39+Sheet1!$R$63-Sheet1!R37-Sheet1!R60","v":400},{"$f":"F40+Sheet1!$R$67-Sheet1!$R$66","v":400},{"$f":"G40+Sheet1!$R$101","v":440},{"$f":"H40+Sheet1!$R31-Sheet1!$R29","v":480}]
[null,{"$f":"IF(B40<$L$5,$K$4,IF(B40<$L$6,$K$5,IF(B40<$L$7,$K$6,IF(B40<$L$8,$K$7,$K$8))))","v":"Clubman"},{"$f":"IF(C40<$L$5,$K$4,IF(C40<$L$6,$K$5,IF(C40<$L$7,$K$6,IF(C40<$L$8,$K$7,$K$8))))","v":"Clubman"},"Clubman","Sprint","Sprint","Sprint","SS","SS"]
[]
["STI 2008 +",{"$f":"Sheet1!S29+Sheet1!S37+Sheet1!S42+Sheet1!S47+Sheet1!S53+Sheet1!S60+Sheet1!S66+Sheet1!S71+Sheet1!S79+Sheet1!S84+Sheet1!S91+Sheet1!S95+Sheet1!S100+Sheet1!S126","v":210},{"$f":"B43+Sheet1!S44+Sheet1!S56-Sheet1!S42-Sheet1!S53","v":270},{"$f":"$C43+Sheet1!S49-Sheet1!S47","v":290},{"$f":"$D43+Sheet1!$S$76+Sheet1!$S$81-Sheet1!$S$79-Sheet1!$S$71","v":340},{"$f":"$E43+Sheet1!$S$39+Sheet1!$S$63 -Sheet1!S37-Sheet1!S60","v":400},{"$f":"F43+Sheet1!$S$67-Sheet1!$S$66","v":400},{"$f":"G43+Sheet1!$S$101","v":440},{"$f":"H43+Sheet1!$S31-Sheet1!$S29","v":480}]
[null,{"$f":"IF(B43<$L$5,$K$4,IF(B43<$L$6,$K$5,IF(B43<$L$7,$K$6,IF(B43<$L$8,$K$7,$K$8))))","v":"Clubman"},{"$f":"IF(C43<$L$5,$K$4,IF(C43<$L$6,$K$5,IF(C43<$L$7,$K$6,IF(C43<$L$8,$K$7,$K$8))))","v":"Clubman"},"Clubman","Sprint","Sprint","Sprint","SS","SS"]