BEGIN:VCALENDAR
VERSION:2.0
METHOD:PUBLISH
BEGIN:VEVENT
UID:WILD_APRICOT_EVENT_2413833_SESSION_1
DTSTART:20161222T130000Z
DTEND:20171231T130000Z
SUMMARY:WRX Club 2017 Calendar
LOCATION:Purchase Online
DESCRIPTION:https://wrx.com.au/event-2413833\n\n  \n\n  The 2017 WRX Club calendar is available for all club members FREE of charge. Calendars can be picked up from any club event.\n  Alternatively calendars can be purchased and mailed out for $15 plus postage ($5).\n  \n\n  Sample image from calendar:\n  \n\n\n
DTSTAMP:20260424T134509Z
END:VEVENT
END:VCALENDAR
